BEGIN:VCALENDAR
VERSION:2.0
PRODID:-//Harmony House - ECPv6.15.20//NONSGML v1.0//EN
CALSCALE:GREGORIAN
METHOD:PUBLISH
X-WR-CALNAME:Harmony House
X-ORIGINAL-URL:https://www.myharmonyhouse.org
X-WR-CALDESC:Events for Harmony House
REFRESH-INTERVAL;VALUE=DURATION:PT1H
X-Robots-Tag:noindex
X-PUBLISHED-TTL:PT1H
BEGIN:VTIMEZONE
TZID:America/Chicago
BEGIN:DAYLIGHT
TZOFFSETFROM:-0600
TZOFFSETTO:-0500
TZNAME:CDT
DTSTART:20200308T080000
END:DAYLIGHT
BEGIN:STANDARD
TZOFFSETFROM:-0500
TZOFFSETTO:-0600
TZNAME:CST
DTSTART:20201101T070000
END:STANDARD
BEGIN:DAYLIGHT
TZOFFSETFROM:-0600
TZOFFSETTO:-0500
TZNAME:CDT
DTSTART:20210314T080000
END:DAYLIGHT
BEGIN:STANDARD
TZOFFSETFROM:-0500
TZOFFSETTO:-0600
TZNAME:CST
DTSTART:20211107T070000
END:STANDARD
BEGIN:DAYLIGHT
TZOFFSETFROM:-0600
TZOFFSETTO:-0500
TZNAME:CDT
DTSTART:20220313T080000
END:DAYLIGHT
BEGIN:STANDARD
TZOFFSETFROM:-0500
TZOFFSETTO:-0600
TZNAME:CST
DTSTART:20221106T070000
END:STANDARD
END:VTIMEZONE
BEGIN:VEVENT
DTSTART;TZID=America/Chicago:20210929T073000
DTEND;TZID=America/Chicago:20210929T083000
DTSTAMP:20260425T211436
CREATED:20210225T065452Z
LAST-MODIFIED:20210909T135211Z
UID:10000071-1632900600-1632904200@www.myharmonyhouse.org
SUMMARY:iCare Kickoff Breakfast (Oasis)
DESCRIPTION:We have 7 billion reasons for you to join us for the 7th Annual iCare Kickoff Breakfast! Come learn how you and your business can support survivors of intimate partner and domestic violence and make a difference for future generations.  You will also get a sneak peek of Standing Together: Portraits and Stories of Domestic Abuse\, the newest exhibit from Randy Bacon and 7 Billion Ones which opens on October 1\, 2021. \nIf you are signed up for iCare already\, this is a great time to pick up your purple box.  If you haven’t signed up yet\, you will be able to register at the breakfast.  \nTo RSVP for the Kickoff Breakfast\, visit: https://harmonyhouse.salsalabs.org/icare2021kickoff \n 
URL:https://www.myharmonyhouse.org/event/icare-kickoff-breakfast-oasis/
LOCATION:Oasis Hotel & Convention Center\, 2546 N Glenstone Ave\, Springfield\, Missouri\, 65803
END:VEVENT
END:VCALENDAR