BEGIN:VCALENDAR
VERSION:2.0
PRODID:-//Harmony House - ECPv6.15.20//NONSGML v1.0//EN
CALSCALE:GREGORIAN
METHOD:PUBLISH
X-WR-CALNAME:Harmony House
X-ORIGINAL-URL:https://www.myharmonyhouse.org
X-WR-CALDESC:Events for Harmony House
REFRESH-INTERVAL;VALUE=DURATION:PT1H
X-Robots-Tag:noindex
X-PUBLISHED-TTL:PT1H
BEGIN:VTIMEZONE
TZID:America/Chicago
BEGIN:DAYLIGHT
TZOFFSETFROM:-0600
TZOFFSETTO:-0500
TZNAME:CDT
DTSTART:20210314T080000
END:DAYLIGHT
BEGIN:STANDARD
TZOFFSETFROM:-0500
TZOFFSETTO:-0600
TZNAME:CST
DTSTART:20211107T070000
END:STANDARD
BEGIN:DAYLIGHT
TZOFFSETFROM:-0600
TZOFFSETTO:-0500
TZNAME:CDT
DTSTART:20220313T080000
END:DAYLIGHT
BEGIN:STANDARD
TZOFFSETFROM:-0500
TZOFFSETTO:-0600
TZNAME:CST
DTSTART:20221106T070000
END:STANDARD
BEGIN:DAYLIGHT
TZOFFSETFROM:-0600
TZOFFSETTO:-0500
TZNAME:CDT
DTSTART:20230312T080000
END:DAYLIGHT
BEGIN:STANDARD
TZOFFSETFROM:-0500
TZOFFSETTO:-0600
TZNAME:CST
DTSTART:20231105T070000
END:STANDARD
END:VTIMEZONE
BEGIN:VEVENT
DTSTART;TZID=America/Chicago:20220927T073000
DTEND;TZID=America/Chicago:20220927T083000
DTSTAMP:20260424T215813
CREATED:20220720T184938Z
LAST-MODIFIED:20230828T203118Z
UID:10000077-1664263800-1664267400@www.myharmonyhouse.org
SUMMARY:iCare Kickoff Breakfast
DESCRIPTION:Join us for the 8th Annual iCare Kickoff Breakfast! Come learn how you and your business can support survivors of domestic abuse and intimate partner violence and make a difference for future generations. \nIf you are signed up for iCare already\, this is a great time to pick up your purple box. If you haven’t signed up yet\, you will be able to register at the breakfast.\n\nTo RSVP for the Kickoff Breakfast\, visit: https://harmonyhouse.salsalabs.org/icare2023kickoffrsvp
URL:https://www.myharmonyhouse.org/event/icare-kickoff-breakfast/
LOCATION:Oasis Hotel & Convention Center\, 2546 N Glenstone Ave\, Springfield\, Missouri\, 65803
ATTACH;FMTTYPE=image/png:https://www.myharmonyhouse.org/wp-content/uploads/2022/07/2022-Newsletter-Graphics-15.png
END:VEVENT
END:VCALENDAR