BEGIN:VCALENDAR
VERSION:2.0
PRODID:-//Harmony House - ECPv6.15.20//NONSGML v1.0//EN
CALSCALE:GREGORIAN
METHOD:PUBLISH
X-ORIGINAL-URL:https://www.myharmonyhouse.org
X-WR-CALDESC:Events for Harmony House
REFRESH-INTERVAL;VALUE=DURATION:PT1H
X-Robots-Tag:noindex
X-PUBLISHED-TTL:PT1H
BEGIN:VTIMEZONE
TZID:America/Chicago
BEGIN:DAYLIGHT
TZOFFSETFROM:-0600
TZOFFSETTO:-0500
TZNAME:CDT
DTSTART:20220313T080000
END:DAYLIGHT
BEGIN:STANDARD
TZOFFSETFROM:-0500
TZOFFSETTO:-0600
TZNAME:CST
DTSTART:20221106T070000
END:STANDARD
BEGIN:DAYLIGHT
TZOFFSETFROM:-0600
TZOFFSETTO:-0500
TZNAME:CDT
DTSTART:20230312T080000
END:DAYLIGHT
BEGIN:STANDARD
TZOFFSETFROM:-0500
TZOFFSETTO:-0600
TZNAME:CST
DTSTART:20231105T070000
END:STANDARD
BEGIN:DAYLIGHT
TZOFFSETFROM:-0600
TZOFFSETTO:-0500
TZNAME:CDT
DTSTART:20240310T080000
END:DAYLIGHT
BEGIN:STANDARD
TZOFFSETFROM:-0500
TZOFFSETTO:-0600
TZNAME:CST
DTSTART:20241103T070000
END:STANDARD
END:VTIMEZONE
BEGIN:VEVENT
DTSTART;TZID=America/Chicago:20230418T180000
DTEND;TZID=America/Chicago:20230418T213000
DTSTAMP:20260424T024632
CREATED:20230119T162533Z
LAST-MODIFIED:20230119T162533Z
UID:10000079-1681840800-1681853400@www.myharmonyhouse.org
SUMMARY:Purple Party 2023
DESCRIPTION:The 8th Annual Purple Party presented by Central Bank is BACK! Join us for an evening of 80’s fun with music by Members Only!\n\nThe evening will feature appetizers catered by the Oasis\, a silent auction you don’t want to miss\, the Harmony Hero competition\, cash bar\, gem raffle and heads or tails competition. Our Harmony Heroes will be battling it out in the Battle of the Brews featuring area breweries.\n\nTickets on sale February 14\, 2023.
URL:https://www.myharmonyhouse.org/event/purple-party-2023/
LOCATION:Oasis Hotel & Convention Center\, 2546 N Glenstone Ave\, Springfield\, Missouri\, 65803
ATTACH;FMTTYPE=image/png:https://www.myharmonyhouse.org/wp-content/uploads/2023/01/Facebook-Event-CoversPP_23.png
END:VEVENT
END:VCALENDAR