BEGIN:VCALENDAR
VERSION:2.0
PRODID:-//Harmony House - ECPv6.15.20//NONSGML v1.0//EN
CALSCALE:GREGORIAN
METHOD:PUBLISH
X-ORIGINAL-URL:https://www.myharmonyhouse.org
X-WR-CALDESC:Events for Harmony House
REFRESH-INTERVAL;VALUE=DURATION:PT1H
X-Robots-Tag:noindex
X-PUBLISHED-TTL:PT1H
BEGIN:VTIMEZONE
TZID:America/Chicago
BEGIN:DAYLIGHT
TZOFFSETFROM:-0600
TZOFFSETTO:-0500
TZNAME:CDT
DTSTART:20220313T080000
END:DAYLIGHT
BEGIN:STANDARD
TZOFFSETFROM:-0500
TZOFFSETTO:-0600
TZNAME:CST
DTSTART:20221106T070000
END:STANDARD
BEGIN:DAYLIGHT
TZOFFSETFROM:-0600
TZOFFSETTO:-0500
TZNAME:CDT
DTSTART:20230312T080000
END:DAYLIGHT
BEGIN:STANDARD
TZOFFSETFROM:-0500
TZOFFSETTO:-0600
TZNAME:CST
DTSTART:20231105T070000
END:STANDARD
BEGIN:DAYLIGHT
TZOFFSETFROM:-0600
TZOFFSETTO:-0500
TZNAME:CDT
DTSTART:20240310T080000
END:DAYLIGHT
BEGIN:STANDARD
TZOFFSETFROM:-0500
TZOFFSETTO:-0600
TZNAME:CST
DTSTART:20241103T070000
END:STANDARD
END:VTIMEZONE
BEGIN:VEVENT
DTSTART;TZID=America/Chicago:20230603T110000
DTEND;TZID=America/Chicago:20230603T140000
DTSTAMP:20260423T234631
CREATED:20230518T183716Z
LAST-MODIFIED:20230518T183716Z
UID:10000083-1685790000-1685800800@www.myharmonyhouse.org
SUMMARY:Yoga Mala at Lavender Falls
DESCRIPTION:Hey it’s Shane Knox from Sage Studio Yoga and Wellness and we are partnering with Lavender Falls to host a Yoga Mala! This Yoga Mala will be by donation with all proceeds going to Harmony House in Springfield. \nWhat’s a Yoga Mala? A mala was traditionally a set of beads. 108 beads to be precise. \nWhy 108? Because 108 is a sacred number in Hinduism and in the yoga tradition. During a yoga mala we do 108 sun salutations. Broken down into 4 groups of 27. \nThe motivation for a yoga mala is service in action\, with a nominated cause or charity to be supported by the event. It manifests the power of collective action\, meditation and intention\, as all gather together\, united by a passion for yoga and a compassion for people.
URL:https://www.myharmonyhouse.org/event/yoga-mala-at-lavender-falls/
LOCATION:Lavender Falls Farm\, 3016 State Hwy M\, Clever\, MO\, 65631\, United States
END:VEVENT
END:VCALENDAR