BEGIN:VCALENDAR
VERSION:2.0
PRODID:-//Harmony House - ECPv6.15.20//NONSGML v1.0//EN
CALSCALE:GREGORIAN
METHOD:PUBLISH
X-ORIGINAL-URL:https://www.myharmonyhouse.org
X-WR-CALDESC:Events for Harmony House
REFRESH-INTERVAL;VALUE=DURATION:PT1H
X-Robots-Tag:noindex
X-PUBLISHED-TTL:PT1H
BEGIN:VTIMEZONE
TZID:America/Chicago
BEGIN:DAYLIGHT
TZOFFSETFROM:-0600
TZOFFSETTO:-0500
TZNAME:CDT
DTSTART:20220313T080000
END:DAYLIGHT
BEGIN:STANDARD
TZOFFSETFROM:-0500
TZOFFSETTO:-0600
TZNAME:CST
DTSTART:20221106T070000
END:STANDARD
BEGIN:DAYLIGHT
TZOFFSETFROM:-0600
TZOFFSETTO:-0500
TZNAME:CDT
DTSTART:20230312T080000
END:DAYLIGHT
BEGIN:STANDARD
TZOFFSETFROM:-0500
TZOFFSETTO:-0600
TZNAME:CST
DTSTART:20231105T070000
END:STANDARD
BEGIN:DAYLIGHT
TZOFFSETFROM:-0600
TZOFFSETTO:-0500
TZNAME:CDT
DTSTART:20240310T080000
END:DAYLIGHT
BEGIN:STANDARD
TZOFFSETFROM:-0500
TZOFFSETTO:-0600
TZNAME:CST
DTSTART:20241103T070000
END:STANDARD
END:VTIMEZONE
BEGIN:VEVENT
DTSTART;TZID=America/Chicago:20230818T113000
DTEND;TZID=America/Chicago:20230818T130000
DTSTAMP:20260423T203031
CREATED:20230724T165905Z
LAST-MODIFIED:20230724T165905Z
UID:10000085-1692358200-1692363600@www.myharmonyhouse.org
SUMMARY:Faith Partners Learning Lunch
DESCRIPTION:Learn how to support survivors using a trauma-informed approach and hear about the victim service organizations available to support survivors.  Lunch is provided. \nAll faiths welcome! \nRSVP to: \nAbbie Cool at execdirector@womensmedicalrespite.org or Charity Jordan at charityj@myharmonyhouse.org \nPresented by: Women’s Medical Respite\, Greene County Family Justice Center\, Harmony House
URL:https://www.myharmonyhouse.org/event/faith-partners-learning-lunch/
LOCATION:Schweitzer Brentwood Library\, 2214 S Brentwood Blvd\, Springfield\, MO\, 65807
ATTACH;FMTTYPE=image/png:https://www.myharmonyhouse.org/wp-content/uploads/2023/07/Faith-OTR.png
END:VEVENT
END:VCALENDAR