BEGIN:VCALENDAR
VERSION:2.0
PRODID:-//Harmony House - ECPv6.15.20//NONSGML v1.0//EN
CALSCALE:GREGORIAN
METHOD:PUBLISH
X-WR-CALNAME:Harmony House
X-ORIGINAL-URL:https://www.myharmonyhouse.org
X-WR-CALDESC:Events for Harmony House
REFRESH-INTERVAL;VALUE=DURATION:PT1H
X-Robots-Tag:noindex
X-PUBLISHED-TTL:PT1H
BEGIN:VTIMEZONE
TZID:America/Chicago
BEGIN:DAYLIGHT
TZOFFSETFROM:-0600
TZOFFSETTO:-0500
TZNAME:CDT
DTSTART:20220313T080000
END:DAYLIGHT
BEGIN:STANDARD
TZOFFSETFROM:-0500
TZOFFSETTO:-0600
TZNAME:CST
DTSTART:20221106T070000
END:STANDARD
BEGIN:DAYLIGHT
TZOFFSETFROM:-0600
TZOFFSETTO:-0500
TZNAME:CDT
DTSTART:20230312T080000
END:DAYLIGHT
BEGIN:STANDARD
TZOFFSETFROM:-0500
TZOFFSETTO:-0600
TZNAME:CST
DTSTART:20231105T070000
END:STANDARD
BEGIN:DAYLIGHT
TZOFFSETFROM:-0600
TZOFFSETTO:-0500
TZNAME:CDT
DTSTART:20240310T080000
END:DAYLIGHT
BEGIN:STANDARD
TZOFFSETFROM:-0500
TZOFFSETTO:-0600
TZNAME:CST
DTSTART:20241103T070000
END:STANDARD
END:VTIMEZONE
BEGIN:VEVENT
DTSTART;TZID=America/Chicago:20230819T080000
DTEND;TZID=America/Chicago:20230819T170000
DTSTAMP:20260423T202632
CREATED:20230706T194244Z
LAST-MODIFIED:20230726T154619Z
UID:10000084-1692432000-1692464400@www.myharmonyhouse.org
SUMMARY:2023 Harmony House Purple Paddle Pickleball Tournament
DESCRIPTION:The first annual Purple Paddle Pickleball Tournament to benefit Harmony House.\n\nLOCATION:\nMeador Park – outdoors: 2500 S Fremont Ave Springfield\, MO 65804 w/ 12 permanent nets.\nFranklin X40 balls.\n\nTIME:\n08/19/2023 Tournament Date\n08:00am Checkin\n08:30am Play starts\n\nMixed events by skill level start in the morning. Men’s doubles and women’s doubles will start late morning. Tournament should conclude by 5pm. The end time is approximate.
URL:https://www.myharmonyhouse.org/event/2023-harmony-house-purple-paddle-pickleball-tournament-2/
LOCATION:Meador Park\, 2500 S Fremont Ave\, Springfield\, MO\, 65804
ATTACH;FMTTYPE=image/png:https://www.myharmonyhouse.org/wp-content/uploads/2023/07/Facebook-2023-50-1.png
END:VEVENT
END:VCALENDAR