BEGIN:VCALENDAR
VERSION:2.0
PRODID:-//Harmony House - ECPv6.15.20//NONSGML v1.0//EN
CALSCALE:GREGORIAN
METHOD:PUBLISH
X-WR-CALNAME:Harmony House
X-ORIGINAL-URL:https://www.myharmonyhouse.org
X-WR-CALDESC:Events for Harmony House
REFRESH-INTERVAL;VALUE=DURATION:PT1H
X-Robots-Tag:noindex
X-PUBLISHED-TTL:PT1H
BEGIN:VTIMEZONE
TZID:America/Chicago
BEGIN:DAYLIGHT
TZOFFSETFROM:-0600
TZOFFSETTO:-0500
TZNAME:CDT
DTSTART:20220313T080000
END:DAYLIGHT
BEGIN:STANDARD
TZOFFSETFROM:-0500
TZOFFSETTO:-0600
TZNAME:CST
DTSTART:20221106T070000
END:STANDARD
BEGIN:DAYLIGHT
TZOFFSETFROM:-0600
TZOFFSETTO:-0500
TZNAME:CDT
DTSTART:20230312T080000
END:DAYLIGHT
BEGIN:STANDARD
TZOFFSETFROM:-0500
TZOFFSETTO:-0600
TZNAME:CST
DTSTART:20231105T070000
END:STANDARD
BEGIN:DAYLIGHT
TZOFFSETFROM:-0600
TZOFFSETTO:-0500
TZNAME:CDT
DTSTART:20240310T080000
END:DAYLIGHT
BEGIN:STANDARD
TZOFFSETFROM:-0500
TZOFFSETTO:-0600
TZNAME:CST
DTSTART:20241103T070000
END:STANDARD
END:VTIMEZONE
BEGIN:VEVENT
DTSTART;TZID=America/Chicago:20231026T180000
DTEND;TZID=America/Chicago:20231026T210000
DTSTAMP:20260423T172136
CREATED:20230926T173221Z
LAST-MODIFIED:20231004T182759Z
UID:10000089-1698343200-1698354000@www.myharmonyhouse.org
SUMMARY:Alamo Night At The Movies
DESCRIPTION:Join Harmony House for a night at the movies! Thanks to our friends at Alamo Drafthouse Cinema in Springfield\, we’ll be screening a special presentation of “This Boy’s Life”. The 1993 film\, starring Robert De Niro and Leonardo DiCaprio\, presents a detailed look at domestic abuse and the impacts on a family and community in the 1950’s. \nAfter the film\, stay for a private Q&A session with Harmony House Outreach team members as they help analyze and understand the unique dynamics of abuse in the film\, and how these barriers to leaving a relationship still affect individuals today. \nTickets are $40.00 each and includes popcorn and drink\, a special Harmony House gift for all attendees\, and proceeds support the mission of Harmony House. Come early for your own PURPLE carpet premier experience! \nPurchase tickets here: \nhttps://harmonyhouse.salsalabs.org/harmonyhousemovie/index.html \n 
URL:https://www.myharmonyhouse.org/event/alamo-night-at-the-movies/
LOCATION:Alamo Drafthouse Springfield\, 4005 South Avenue\, Springfield\, Missouri\, 65807
ATTACH;FMTTYPE=image/png:https://www.myharmonyhouse.org/wp-content/uploads/2023/09/Facebook-Event-Covers-11.png
END:VEVENT
END:VCALENDAR