BEGIN:VCALENDAR
VERSION:2.0
PRODID:-//Harmony House - ECPv6.15.20//NONSGML v1.0//EN
CALSCALE:GREGORIAN
METHOD:PUBLISH
X-WR-CALNAME:Harmony House
X-ORIGINAL-URL:https://www.myharmonyhouse.org
X-WR-CALDESC:Events for Harmony House
REFRESH-INTERVAL;VALUE=DURATION:PT1H
X-Robots-Tag:noindex
X-PUBLISHED-TTL:PT1H
BEGIN:VTIMEZONE
TZID:America/Chicago
BEGIN:DAYLIGHT
TZOFFSETFROM:-0600
TZOFFSETTO:-0500
TZNAME:CDT
DTSTART:20220313T080000
END:DAYLIGHT
BEGIN:STANDARD
TZOFFSETFROM:-0500
TZOFFSETTO:-0600
TZNAME:CST
DTSTART:20221106T070000
END:STANDARD
BEGIN:DAYLIGHT
TZOFFSETFROM:-0600
TZOFFSETTO:-0500
TZNAME:CDT
DTSTART:20230312T080000
END:DAYLIGHT
BEGIN:STANDARD
TZOFFSETFROM:-0500
TZOFFSETTO:-0600
TZNAME:CST
DTSTART:20231105T070000
END:STANDARD
BEGIN:DAYLIGHT
TZOFFSETFROM:-0600
TZOFFSETTO:-0500
TZNAME:CDT
DTSTART:20240310T080000
END:DAYLIGHT
BEGIN:STANDARD
TZOFFSETFROM:-0500
TZOFFSETTO:-0600
TZNAME:CST
DTSTART:20241103T070000
END:STANDARD
END:VTIMEZONE
BEGIN:VEVENT
DTSTART;TZID=America/Chicago:20231128T000000
DTEND;TZID=America/Chicago:20231128T235959
DTSTAMP:20260423T140918
CREATED:20231116T220415Z
LAST-MODIFIED:20231116T220415Z
UID:10000091-1701129600-1701215999@www.myharmonyhouse.org
SUMMARY:Giving Tuesday 2023
DESCRIPTION:Join Harmony House on November 28th\, in celebrating Giving Tuesday\, a global day dedicated to giving back and fostering generosity. As we come together on this special day\, we invite you to be a part of our mission to provide shelter\, advocacy\, and education for survivors of domestic violence in the Springfield/Greene County community. \nHow to Participate: \n\nDonate Online: Visit our Facebook page MyHarmonyHouse and use the Donate button to make your contribution.\nSpread the Word: Share our event and donate link on your social media. The more people we reach\, the greater our impact!\nEngage with Our Content: Like\, comment\, and share our Giving Tuesday posts.\n\nYour Impact: \n\nYour generous donations on Giving Tuesday will directly support our efforts to provide a safe shelter and vital resources to individuals and families affected by domestic violence.\n\nJoin us on Giving Tuesday to make a lasting difference in the lives of those we serve. Together\, we can create a safer\, more supportive world.
URL:https://www.myharmonyhouse.org/event/giving-tuesday-2023/
LOCATION:Harmony House\, 3404 E Ridgeview\, Springfield\, MO\, 65804
ATTACH;FMTTYPE=image/png:https://www.myharmonyhouse.org/wp-content/uploads/2023/11/LED-sign-designs-2023.png
END:VEVENT
END:VCALENDAR