BEGIN:VCALENDAR
VERSION:2.0
PRODID:-//Harmony House - ECPv6.15.20//NONSGML v1.0//EN
CALSCALE:GREGORIAN
METHOD:PUBLISH
X-WR-CALNAME:Harmony House
X-ORIGINAL-URL:https://www.myharmonyhouse.org
X-WR-CALDESC:Events for Harmony House
REFRESH-INTERVAL;VALUE=DURATION:PT1H
X-Robots-Tag:noindex
X-PUBLISHED-TTL:PT1H
BEGIN:VTIMEZONE
TZID:America/Chicago
BEGIN:DAYLIGHT
TZOFFSETFROM:-0600
TZOFFSETTO:-0500
TZNAME:CDT
DTSTART:20230312T080000
END:DAYLIGHT
BEGIN:STANDARD
TZOFFSETFROM:-0500
TZOFFSETTO:-0600
TZNAME:CST
DTSTART:20231105T070000
END:STANDARD
BEGIN:DAYLIGHT
TZOFFSETFROM:-0600
TZOFFSETTO:-0500
TZNAME:CDT
DTSTART:20240310T080000
END:DAYLIGHT
BEGIN:STANDARD
TZOFFSETFROM:-0500
TZOFFSETTO:-0600
TZNAME:CST
DTSTART:20241103T070000
END:STANDARD
BEGIN:DAYLIGHT
TZOFFSETFROM:-0600
TZOFFSETTO:-0500
TZNAME:CDT
DTSTART:20250309T080000
END:DAYLIGHT
BEGIN:STANDARD
TZOFFSETFROM:-0500
TZOFFSETTO:-0600
TZNAME:CST
DTSTART:20251102T070000
END:STANDARD
END:VTIMEZONE
BEGIN:VEVENT
DTSTART;TZID=America/Chicago:20240525T100000
DTEND;TZID=America/Chicago:20240525T130000
DTSTAMP:20260423T061539
CREATED:20240501T185535Z
LAST-MODIFIED:20240501T185535Z
UID:10000099-1716631200-1716642000@www.myharmonyhouse.org
SUMMARY:3rd Annual Yoga Mala at Lavender Falls
DESCRIPTION:Sage Studio Yoga and Wellness is partnering with Lavender Falls to host the 3rd Annual Yoga Mala with all proceeds going to Harmony House in Springfield. \nWhat’s a Yoga Mala? A mala was traditionally a set of beads. 108 beads to be precise. \nWhy 108? Because 108 is a sacred number in Hinduism and in the yoga tradition. During a yoga mala we do 108 sun salutations. Broken down into 4 groups of 27. \nThe motivation for a yoga mala is service in action\, with a nominated cause or charity to be supported by the event. It manifests the power of collective action\, meditation and intention\, as all gather together\, united by a passion for yoga and a compassion for people. \n  \nTime & Location\nMay 25\, 2024\, 10:00 AM – 1:00 PM \nLavender Falls\, 3016 State Hwy M\, Clever\, MO 65631\, USA \n 
URL:https://www.myharmonyhouse.org/event/3rd-annual-yoga-mala-at-lavender-falls/
LOCATION:Lavender Falls Farm\, 3016 State Hwy M\, Clever\, MO\, 65631\, United States
ATTACH;FMTTYPE=image/png:https://www.myharmonyhouse.org/wp-content/uploads/2024/05/White-Black-Bold-Minimalist-Open-Donation-Flyer-e1714589697372.png
END:VEVENT
END:VCALENDAR