BEGIN:VCALENDAR
VERSION:2.0
PRODID:-//Harmony House - ECPv6.15.20//NONSGML v1.0//EN
CALSCALE:GREGORIAN
METHOD:PUBLISH
X-ORIGINAL-URL:https://www.myharmonyhouse.org
X-WR-CALDESC:Events for Harmony House
REFRESH-INTERVAL;VALUE=DURATION:PT1H
X-Robots-Tag:noindex
X-PUBLISHED-TTL:PT1H
BEGIN:VTIMEZONE
TZID:America/Chicago
BEGIN:DAYLIGHT
TZOFFSETFROM:-0600
TZOFFSETTO:-0500
TZNAME:CDT
DTSTART:20230312T080000
END:DAYLIGHT
BEGIN:STANDARD
TZOFFSETFROM:-0500
TZOFFSETTO:-0600
TZNAME:CST
DTSTART:20231105T070000
END:STANDARD
BEGIN:DAYLIGHT
TZOFFSETFROM:-0600
TZOFFSETTO:-0500
TZNAME:CDT
DTSTART:20240310T080000
END:DAYLIGHT
BEGIN:STANDARD
TZOFFSETFROM:-0500
TZOFFSETTO:-0600
TZNAME:CST
DTSTART:20241103T070000
END:STANDARD
BEGIN:DAYLIGHT
TZOFFSETFROM:-0600
TZOFFSETTO:-0500
TZNAME:CDT
DTSTART:20250309T080000
END:DAYLIGHT
BEGIN:STANDARD
TZOFFSETFROM:-0500
TZOFFSETTO:-0600
TZNAME:CST
DTSTART:20251102T070000
END:STANDARD
END:VTIMEZONE
BEGIN:VEVENT
DTSTART;TZID=America/Chicago:20240822T180000
DTEND;TZID=America/Chicago:20240822T210000
DTSTAMP:20260423T014055
CREATED:20240611T155816Z
LAST-MODIFIED:20240813T155557Z
UID:10000101-1724349600-1724360400@www.myharmonyhouse.org
SUMMARY:Golden Hour Gala
DESCRIPTION:Join us on Thursday\, August 22nd from 6 PM to 9 PM for the Golden Hour Gala\, benefiting Harmony House. This elegant event will be held at the beautiful Spring Creek Estates in Republic. \nDress in your best cocktail attire and enjoy a sunset dinner\, entertainment\, a cash bar\, and a variety of fun activities—all in support of a great cause. Tickets are available for $35 each\, or you can reserve a table (12 seats) for your friends for $400. \nDon’t miss this wonderful evening\, proudly organized and planned by the Harmony House Young Professionals Advisory Board. We look forward to seeing you there!
URL:https://secure.qgiv.com/for/testem/event/the-golden-hour-gala/
LOCATION:Spring Creek Estates\, 7368 W Farm Rd 186\, Republic\, MO\, 65738\, United States
ATTACH;FMTTYPE=image/png:https://www.myharmonyhouse.org/wp-content/uploads/2024/06/Untitled-design-16.png
END:VEVENT
END:VCALENDAR