BEGIN:VCALENDAR
VERSION:2.0
PRODID:-//Harmony House - ECPv6.15.20//NONSGML v1.0//EN
CALSCALE:GREGORIAN
METHOD:PUBLISH
X-WR-CALNAME:Harmony House
X-ORIGINAL-URL:https://www.myharmonyhouse.org
X-WR-CALDESC:Events for Harmony House
REFRESH-INTERVAL;VALUE=DURATION:PT1H
X-Robots-Tag:noindex
X-PUBLISHED-TTL:PT1H
BEGIN:VTIMEZONE
TZID:America/Chicago
BEGIN:DAYLIGHT
TZOFFSETFROM:-0600
TZOFFSETTO:-0500
TZNAME:CDT
DTSTART:20230312T080000
END:DAYLIGHT
BEGIN:STANDARD
TZOFFSETFROM:-0500
TZOFFSETTO:-0600
TZNAME:CST
DTSTART:20231105T070000
END:STANDARD
BEGIN:DAYLIGHT
TZOFFSETFROM:-0600
TZOFFSETTO:-0500
TZNAME:CDT
DTSTART:20240310T080000
END:DAYLIGHT
BEGIN:STANDARD
TZOFFSETFROM:-0500
TZOFFSETTO:-0600
TZNAME:CST
DTSTART:20241103T070000
END:STANDARD
BEGIN:DAYLIGHT
TZOFFSETFROM:-0600
TZOFFSETTO:-0500
TZNAME:CDT
DTSTART:20250309T080000
END:DAYLIGHT
BEGIN:STANDARD
TZOFFSETFROM:-0500
TZOFFSETTO:-0600
TZNAME:CST
DTSTART:20251102T070000
END:STANDARD
END:VTIMEZONE
BEGIN:VEVENT
DTSTART;TZID=America/Chicago:20241028T080000
DTEND;TZID=America/Chicago:20241028T170000
DTSTAMP:20260422T202137
CREATED:20241001T142952Z
LAST-MODIFIED:20241001T142952Z
UID:10000104-1730102400-1730134800@www.myharmonyhouse.org
SUMMARY:2024 Stop the Violence Conference
DESCRIPTION:Please join us for the 2024 Stop the Violence Conference! This free event brings national speakers to our community to discuss domestic and sexual violence\, and makes a call to action to stop interpersonal violence in SW Missouri.\n\nThis event is hosted by many local victim services organizations in partnership with Abilities First\, the Missouri Department of Health and Senior Services and MSU Department of Criminology/Criminal Justice\, and can be attended in-person or virtually.\n\nTo register\, please visit https://efactory.missouristate.edu/events/stop-the-violence/Once all in-person spots are full\, only virtual registration will be available.
URL:https://www.myharmonyhouse.org/event/2024-stop-the-violence-conference/
LOCATION:efactory\, 405 N Jefferson Ave\, Springfield\, MO\, 65806\, United States
ATTACH;FMTTYPE=image/jpeg:https://www.myharmonyhouse.org/wp-content/uploads/2024/10/452552271_900290368798563_8572456812080586537_n.jpg
END:VEVENT
END:VCALENDAR