BEGIN:VCALENDAR
VERSION:2.0
PRODID:-//Harmony House - ECPv6.15.20//NONSGML v1.0//EN
CALSCALE:GREGORIAN
METHOD:PUBLISH
X-WR-CALNAME:Harmony House
X-ORIGINAL-URL:https://www.myharmonyhouse.org
X-WR-CALDESC:Events for Harmony House
REFRESH-INTERVAL;VALUE=DURATION:PT1H
X-Robots-Tag:noindex
X-PUBLISHED-TTL:PT1H
BEGIN:VTIMEZONE
TZID:America/Chicago
BEGIN:DAYLIGHT
TZOFFSETFROM:-0600
TZOFFSETTO:-0500
TZNAME:CDT
DTSTART:20230312T080000
END:DAYLIGHT
BEGIN:STANDARD
TZOFFSETFROM:-0500
TZOFFSETTO:-0600
TZNAME:CST
DTSTART:20231105T070000
END:STANDARD
BEGIN:DAYLIGHT
TZOFFSETFROM:-0600
TZOFFSETTO:-0500
TZNAME:CDT
DTSTART:20240310T080000
END:DAYLIGHT
BEGIN:STANDARD
TZOFFSETFROM:-0500
TZOFFSETTO:-0600
TZNAME:CST
DTSTART:20241103T070000
END:STANDARD
BEGIN:DAYLIGHT
TZOFFSETFROM:-0600
TZOFFSETTO:-0500
TZNAME:CDT
DTSTART:20250309T080000
END:DAYLIGHT
BEGIN:STANDARD
TZOFFSETFROM:-0500
TZOFFSETTO:-0600
TZNAME:CST
DTSTART:20251102T070000
END:STANDARD
END:VTIMEZONE
BEGIN:VEVENT
DTSTART;TZID=America/Chicago:20241121T190000
DTEND;TZID=America/Chicago:20241121T220000
DTSTAMP:20260422T203746
CREATED:20241001T151058Z
LAST-MODIFIED:20241001T151058Z
UID:10000105-1732215600-1732226400@www.myharmonyhouse.org
SUMMARY:RaeLynn Concert
DESCRIPTION:RaeLynn is coming to the Aetos Center for the Performing Arts in the Meridian Title Company Performance Hall on Thursday\, November 21\, at 7 p.m.\, in a benefit concert for Harmony House!! \nTwo-time ACM New Female Vocalist nominee RaeLynn continues to carve her unique lane in country music with her gift for storytelling through songwriting\, accented by a one-of-a-kind\, electric personality. As she prepares for an upcoming full-length album release\, RaeLynn delivered an emotional soul-stirring anthem with her new ballad\, “Funny Girl\,” on March 15. \nThe single marks a new chapter in her musical journey\, showcasing her growth as an independent artist and her unwavering commitment to authenticity. \nShe also released multiple new singles in 2023 including\, “It’s Happening Right Here\,” “Broken One\,” “Somebody Else\, and “What’s Wrong With That.” \nSince starting her career a decade ago\, RaeLynn has become a multi-faceted artist in her own right\, releasing a children’s book\, “Raisin’ Me A Country Girl\,” the namesake of her 2022 hit song\, becoming the first country face to represent the global beauty brand Too Faced and making her acting debut in the Hallmark Channel’s “A Nashville Christmas Carol.” \nWith over 2.5 MILLION followers across her online platforms\, RaeLynn has both GOLD (“Love Triangle”\, “Lonely Call”) and PLATINUM (“God Made Girls”) singles to her name amassing over ONE BILLION total career streams and over 100 MILLION global streams on her 2021 independently-released full-length album BAYTOWN. BAYTOWN followed RaeLynn’s widely praised debut WILDHORSE which arrived at #1 on Billboard’s Top Country Albums chart and was recognized among the best Country albums of 2017 by Rolling Stone\, UPROXX and Stereogum. Since becoming a mother in September 2021\, her outlook on life has been enriched with growing a family and leaving a legacy of purpose. In doing so\, she unapologetically has begun accepting speaking engagements and divulging an unfettered\, raw perspective of her inspiring life experiences. \nDon’t miss this amazing event all to benefit Harmony House – Buy your tickets now!
URL:https://www.myharmonyhouse.org/event/raelynn-concert/
LOCATION:Aetos Center for the Performing Arts\, 514 S Nicholas Rd\, Nixa\, MO\, 65714\, United States
ATTACH;FMTTYPE=image/svg+xml:https://www.myharmonyhouse.org/wp-content/uploads/2024/10/iCare-Breakfast-2024.svg
END:VEVENT
END:VCALENDAR