BEGIN:VCALENDAR
VERSION:2.0
PRODID:-//Harmony House - ECPv6.15.20//NONSGML v1.0//EN
CALSCALE:GREGORIAN
METHOD:PUBLISH
X-WR-CALNAME:Harmony House
X-ORIGINAL-URL:https://www.myharmonyhouse.org
X-WR-CALDESC:Events for Harmony House
REFRESH-INTERVAL;VALUE=DURATION:PT1H
X-Robots-Tag:noindex
X-PUBLISHED-TTL:PT1H
BEGIN:VTIMEZONE
TZID:America/Chicago
BEGIN:DAYLIGHT
TZOFFSETFROM:-0600
TZOFFSETTO:-0500
TZNAME:CDT
DTSTART:20240310T080000
END:DAYLIGHT
BEGIN:STANDARD
TZOFFSETFROM:-0500
TZOFFSETTO:-0600
TZNAME:CST
DTSTART:20241103T070000
END:STANDARD
BEGIN:DAYLIGHT
TZOFFSETFROM:-0600
TZOFFSETTO:-0500
TZNAME:CDT
DTSTART:20250309T080000
END:DAYLIGHT
BEGIN:STANDARD
TZOFFSETFROM:-0500
TZOFFSETTO:-0600
TZNAME:CST
DTSTART:20251102T070000
END:STANDARD
BEGIN:DAYLIGHT
TZOFFSETFROM:-0600
TZOFFSETTO:-0500
TZNAME:CDT
DTSTART:20260308T080000
END:DAYLIGHT
BEGIN:STANDARD
TZOFFSETFROM:-0500
TZOFFSETTO:-0600
TZNAME:CST
DTSTART:20261101T070000
END:STANDARD
BEGIN:DAYLIGHT
TZOFFSETFROM:-0600
TZOFFSETTO:-0500
TZNAME:CDT
DTSTART:20270314T080000
END:DAYLIGHT
BEGIN:STANDARD
TZOFFSETFROM:-0500
TZOFFSETTO:-0600
TZNAME:CST
DTSTART:20271107T070000
END:STANDARD
END:VTIMEZONE
BEGIN:VEVENT
DTSTART;TZID=America/Chicago:20251106T180000
DTEND;TZID=America/Chicago:20251106T200000
DTSTAMP:20260422T171349
CREATED:20251021T152627Z
LAST-MODIFIED:20251021T152721Z
UID:10000175-1762452000-1762459200@www.myharmonyhouse.org
SUMMARY:Young Professionals Advisory Board Fall Social
DESCRIPTION:Join us this fall for a social held by the Harmony House Young Professionals Advisory Board. We’re excited to invite you to our Fall Social on Thursday\, November 6th at 6PM at Tie & Timber Beer Co. Friends\, family\, and prospective members are all welcome! Come and go as you please and enjoy a cozy evening connecting with other YP members. \n📍 Parking Note: Parking is limited at Tie & Timber\, so your best bet is to park along Weller or Pickwick.\nWe can’t wait to see everyone there!
URL:https://www.myharmonyhouse.org/event/young-professionals-advisory-board-fall-social/
LOCATION:Tie & Timber\, 1451 E Cherry Street\, Springfield\, MO\, 65802\, United States
CATEGORIES:Young Professionals Advisory Board
ATTACH;FMTTYPE=image/png:https://www.myharmonyhouse.org/wp-content/uploads/2025/10/YP-Fall-Event-2025.png
END:VEVENT
BEGIN:VEVENT
DTSTART;TZID=America/Chicago:20251114T183000
DTEND;TZID=America/Chicago:20251114T203000
DTSTAMP:20260422T171349
CREATED:20251112T234311Z
LAST-MODIFIED:20251112T234311Z
UID:10000177-1763145000-1763152200@www.myharmonyhouse.org
SUMMARY:Benefit Screening at the Alamo
DESCRIPTION:You are invited to join us as we partner with the Alamo Drafthouse Cinema for a Benefit Screening this Friday night!\n\nA portion of each ticket sold to the Friday\, November 14th 6:30pm showing of Christy\, will go directly to support survivors of domestic violence in our community. Based on a true story\, the film is about world champion boxer Christy Martin and her experiences with abuse\, power and control\, and empowerment. We were honored to welcome the real Christy Martin for a visit and tour of Harmony House a few years ago (pictured with Jared in the graphics attached)!  Please note: The film includes scenes and themes related to domestic and sexual violence. We encourage viewers to step away if needed.\n\nWe’re also proud to share that during the movie previews on Friday\, audiences will see a new Harmony House video short (produced by Index Video Productions\, with funding provided by the Community Foundation of the Ozarks) featuring Tabi’s story – a reminder that every survivor’s voice matters.\n\nTickets are just $15\, and $5 from every ticket will go to Harmony House.\nhttps://drafthouse.com/springfield/event/benefit-screening-christy?cinemaId=2301
URL:https://www.myharmonyhouse.org/event/benefit-screening-at-the-alamo/
LOCATION:Alamo Drafthouse Springfield\, 4005 South Avenue\, Springfield\, Missouri\, 65807
CATEGORIES:Community Engagement,Fundraising,Prevention Education
ATTACH;FMTTYPE=image/png:https://www.myharmonyhouse.org/wp-content/uploads/2025/11/Benefit-Screening-2025.png
END:VEVENT
BEGIN:VEVENT
DTSTART;TZID=America/Chicago:20251118T000000
DTEND;TZID=America/Chicago:20251130T235959
DTSTAMP:20260422T171349
CREATED:20251117T195037Z
LAST-MODIFIED:20251201T221042Z
UID:10000180-1763424000-1764547199@www.myharmonyhouse.org
SUMMARY:Show Me Chuy Raffle
DESCRIPTION:Experience the bold flavors of Springfield’s newest culinary gem\, Show Me Chuy\, where Mexican and Italian traditions come together in unforgettable dishes. The winner will enjoy dinner for four\, with expertly paired wines\, crafted by Chef Jesús “Chuy” García\, in a warm and welcoming atmosphere that celebrates food\, family\, and community. Proceeds benefit Harmony House. Join them in helping raise awareness about domestic violence in our community. \nEnter the raffle today – now open throughout the month of November. \n 
URL:https://www.myharmonyhouse.org/event/show-me-chuy-raffle/
LOCATION:Show Me Chuy\, 1410 E Republic Road\, SPRINGFIELD\, MO\, 65804\, United States
CATEGORIES:Community Engagement,Fundraising
ATTACH;FMTTYPE=image/png:https://www.myharmonyhouse.org/wp-content/uploads/2025/11/Show-Me-Chuy-Website-1920-x-1005-px.png
END:VEVENT
BEGIN:VEVENT
DTSTART;TZID=America/Chicago:20251122T130000
DTEND;TZID=America/Chicago:20251122T143000
DTSTAMP:20260422T171349
CREATED:20250805T160118Z
LAST-MODIFIED:20251117T151116Z
UID:10000179-1763816400-1763821800@www.myharmonyhouse.org
SUMMARY:Community Support Group
DESCRIPTION:A new Community Support group for survivors of domestic violence & abuse is starting on Saturday\, September 20th. Survivors are invited to fill out our interest form to learn more about meeting details. \n\nDesigned to provide support\, connection\, and resources specific to survivors (18+\, all gender identities)\nSafe\, non-judgmental\, confidential\, strength-based; led by licensed therapist who specializes in DV/abuse/trauma\nTopics: hope\, healing\, safety planning\, healthy ways of coping\, emotional processing\, abuse & its effects\, power & control dynamics\, boundaries\, & healthy relationships\n\nFill out the interest form today! bit.ly/communitysupportgroup \nThe Community Support will meet weekly on Saturdays from 1-2:30pm\, from September 20th through November 22nd. Feel free to share this free resource with people you know! \n \n 
URL:https://www.myharmonyhouse.org/event/community-support-group/2025-11-22/
LOCATION:(Location Private)
ATTACH;FMTTYPE=image/png:https://www.myharmonyhouse.org/wp-content/uploads/2025/08/Community-Support-Group-25-web-image-1920-x-1080-px.png
END:VEVENT
BEGIN:VEVENT
DTSTART;TZID=America/Chicago:20251126T000000
DTEND;TZID=America/Chicago:20251231T235959
DTSTAMP:20260422T171349
CREATED:20251126T213853Z
LAST-MODIFIED:20251126T213853Z
UID:10000184-1764115200-1767225599@www.myharmonyhouse.org
SUMMARY:Cassidy Station Charity Tree Contest 2025
DESCRIPTION:Visit Cassidy Station at Estes Farms in Nixa this holiday season and vote for the purple Harmony House Tree! Competing amongst other local nonprofits for Cassidy Station’s 2nd annual Charity Tree Contest\, help Harmony House win by voting in person\, now until December 31st. The winning nonprofit receives a donation from Cassidy Station\, which will provide direct support to survivors of domestic violence at Harmony House. Thank you! \n  \n \n 
URL:https://www.myharmonyhouse.org/event/cassidy-station-charity-tree-contest-2025/
LOCATION:Cassidy Station at Estes Farms\, 5176 N Fremont Rd\, Nixa\, MO\, 65714\, United States
CATEGORIES:Community Engagement
ATTACH;FMTTYPE=image/jpeg:https://www.myharmonyhouse.org/wp-content/uploads/2025/11/IMG_7879-scaled.jpg
END:VEVENT
BEGIN:VEVENT
DTSTART;TZID=America/Chicago:20251202T000000
DTEND;TZID=America/Chicago:20251202T235959
DTSTAMP:20260422T171349
CREATED:20251126T212759Z
LAST-MODIFIED:20251126T222439Z
UID:10000183-1764633600-1764719999@www.myharmonyhouse.org
SUMMARY:Giving Tuesday 2025
DESCRIPTION:This GivingTuesday\, support Harmony House in providing safety\, shelter and hope to survivors of domestic violence. Your gift qualifies for 70% tax credits\, making an even greater impact in our community. This year\, every dollar goes further – thanks to a $15\,000 match from a generous donor. Give generously\, give locally\, and help Harmony House make every gift count. \nJoin Harmony House on December 2nd\, in celebrating Giving Tuesday\, a global day dedicated to giving back and fostering generosity. As we come together on this special day\, we invite you to be a part of our mission to provide shelter\, advocacy\, and education for survivors of domestic violence in the Springfield/Greene County community. How to Participate: \n\nDonate Online: Visit our main donation page online to make your contribution.\nSpread the Word: Share our event and donate link on your social media. The more people we reach\, the greater our impact!\nEngage with Our Content: Like\, comment\, and share our Giving Tuesday posts.\n\nYour Impact: \n\nYour generous donations on Giving Tuesday will directly support our efforts to provide a safe shelter and vital resources to individuals and families affected by domestic violence.\n\nJoin us on Giving Tuesday to make a lasting difference in the lives of those we serve. Together\, we can create a safer\, more supportive world. \n 
URL:https://www.myharmonyhouse.org/event/giving-tuesday-2025/
CATEGORIES:Community Engagement,Fundraising
ATTACH;FMTTYPE=image/png:https://www.myharmonyhouse.org/wp-content/uploads/2025/11/Giving-Tuesday-2025-Email-Header-1280-x-720-px.png
END:VEVENT
BEGIN:VEVENT
DTSTART;TZID=America/Chicago:20251206T153000
DTEND;TZID=America/Chicago:20251206T173000
DTSTAMP:20260422T171349
CREATED:20251126T183859Z
LAST-MODIFIED:20251126T183928Z
UID:10000181-1765035000-1765042200@www.myharmonyhouse.org
SUMMARY:Stand 4 Springfield Toy & Supply Drive
DESCRIPTION:The 3rd annual Toy & Supply Drive (benefitting Harmony House and other local nonprofits) hosted by Stand 4 Springfield is happening on Saturday\, December 6th from 3:30pm-5:30pm at 4 By 4 Brewing in Fremont Hills. Join us! \n 
URL:https://www.myharmonyhouse.org/event/stand-4-springfield-toy-supply-drive/
LOCATION:4 By 4 Brewing Company Fremont Hills\, 9003 Sawgrass Ave\, Nixa\, MO\, 65714\, United States
CATEGORIES:Community Engagement,Fundraising
ATTACH;FMTTYPE=image/jpeg:https://www.myharmonyhouse.org/wp-content/uploads/2025/11/STH-2025-Cover-scaled.jpeg
END:VEVENT
BEGIN:VEVENT
DTSTART;TZID=America/Chicago:20260228T080000
DTEND;TZID=America/Chicago:20260228T130000
DTSTAMP:20260422T171349
CREATED:20260203T202147Z
LAST-MODIFIED:20260203T210743Z
UID:10000185-1772265600-1772283600@www.myharmonyhouse.org
SUMMARY:Hard Roxx Run (Benefitting Harmony House)
DESCRIPTION:Get registered for the Hard Roxx 5K\, happening on Saturday\, Feb. 28th\, 2026 hosted by our friends at She-Roxx. Every step and every mile helps support Harmony House – making a real difference for survivors in our community. Sign up today! \nGet ready to rock the trails.\nFebruary 28th\, 2026\nSouthern Missouri Off-Road Ranch \n1 Mile Fun Run\, 5K\, 10K Distances\nAwards for Top 3 In Categories \nTo register or learn more\, visit runsignup.com/Race/MO/Seymour/HARDROXXRUN \nTHE EXPERIENCE\n✨ Rugged off-road trail adventure\n✨ Epic views + natural obstacles\n✨ Water & snacks waiting at the finish\n✨ A race you’ll talk about all year \nRUN FOR MORE THAN A MEDAL\nThis event is powered by SHE-ROXX\, a 501(c)(3) organization. Every step\, every mile\, every drop of sweat helps support Harmony House—making a real difference for survivors in our community.
URL:https://www.myharmonyhouse.org/event/hard-roxx/
LOCATION:Southern Missouri Offroad Ranch\, 5722 State Highway K\, Seymour\, Missouri\, 65746
CATEGORIES:Community Engagement,Fundraising
ATTACH;FMTTYPE=image/png:https://www.myharmonyhouse.org/wp-content/uploads/2026/02/Hard-Roxx-Run-Website-26.png
END:VEVENT
BEGIN:VEVENT
DTSTART;TZID=America/Chicago:20260302T000000
DTEND;TZID=America/Chicago:20260531T235959
DTSTAMP:20260422T171349
CREATED:20260303T151640Z
LAST-MODIFIED:20260303T151918Z
UID:10000186-1772409600-1780271999@www.myharmonyhouse.org
SUMMARY:Spring Harmony - Charity Floral Arrangement
DESCRIPTION:Spring Harmony – Charity Floral Arrangement (Now Through May) – We are so excited to have been selected as the recipient for Cassidy Station Flower Company’s Spring Charity Floral Arrangement. From March through May\, anytime you order or purchase their beautiful Spring Harmony arrangement (displayed above\, with intentional hues of purple)\, we will receive a portion of the profit. Purchase flowers for yourself or a friend – all while supporting our mission and celebrating our 50th anniversary year!
URL:https://www.myharmonyhouse.org/event/spring-harmony/
LOCATION:Cassidy Station at Estes Farms\, 5176 N Fremont Rd\, Nixa\, MO\, 65714\, United States
CATEGORIES:Community Engagement,Fundraising
ATTACH;FMTTYPE=image/jpeg:https://www.myharmonyhouse.org/wp-content/uploads/2026/03/Spring-Harmony.jpg
END:VEVENT
BEGIN:VEVENT
DTSTART;TZID=America/Chicago:20260328T080000
DTEND;TZID=America/Chicago:20260328T130000
DTSTAMP:20260422T171349
CREATED:20260320T193459Z
LAST-MODIFIED:20260320T193459Z
UID:10000188-1774684800-1774702800@www.myharmonyhouse.org
SUMMARY:Alpha Chi Omega 5K (Benefitting Harmony House)
DESCRIPTION:Get registered for the Rise N’ Grind 5K\, happening on Saturday\, March 28th\, 2026 hosted by the students of Alpha Chi Omega. Every step and every mile helps support Harmony House – making a real difference for survivors in our community. Sign up today! \nLearn more and get registered:\nhttps://runsignup.com/Race/MO/Springfield/RiseNGrind5k \n 
URL:https://www.myharmonyhouse.org/event/risengrind/
CATEGORIES:Community Engagement,Fundraising
ATTACH;FMTTYPE=image/jpeg:https://www.myharmonyhouse.org/wp-content/uploads/2026/03/IMG_8227.jpeg
END:VEVENT
BEGIN:VEVENT
DTSTART;TZID=America/Chicago:20260411T100000
DTEND;TZID=America/Chicago:20260411T140000
DTSTAMP:20260422T171349
CREATED:20260320T194735Z
LAST-MODIFIED:20260320T194809Z
UID:10000189-1775901600-1775916000@www.myharmonyhouse.org
SUMMARY:Jeepin' for Charities (Benefitting Harmony House)
DESCRIPTION:Join Sho-Me Jeepers Club for a fun filled Show-N-Shine Jeep event! Held on April 11th from 10am-2pm at the Innovation Center in Ozark\, MO\, you’re invited to Jeepin’ for Charities. They will have vendors\, food trucks and a kid-zone. Sho-Me Jeepers will provide informative mini sessions\, including Jeep Recovery 101 and a safety class. Come bid on fantastic items during the Silent Auction. There will also be an area of raffle items to win.
URL:https://www.myharmonyhouse.org/event/jeepinforcharities/
LOCATION:Innovation Center\, 1600 W. Jackson St\, Ozark\, MO\, 65721\, United States
CATEGORIES:Community Engagement,Fundraising
ATTACH;FMTTYPE=image/jpeg:https://www.myharmonyhouse.org/wp-content/uploads/2026/03/427.jpg
END:VEVENT
BEGIN:VEVENT
DTSTART;TZID=America/Chicago:20260417T180000
DTEND;TZID=America/Chicago:20260417T210000
DTSTAMP:20260422T171349
CREATED:20250501T210745Z
LAST-MODIFIED:20260219T225805Z
UID:10000108-1776448800-1776459600@www.myharmonyhouse.org
SUMMARY:Purple Party 2026
DESCRIPTION:Tickets now on sale! We are so excited to invite you to our biggest annual event – the Purple Party. Join us Friday\, April 17\, 2026\, as we celebrate 50 years of Harmony House at the 11th Annual Purple Party. \nThis year’s event brings an energetic ’80s-themed celebration\, featuring great food\, live music\, and an evening of fun – all in support of Harmony House’s mission. \n\n\n\nTickets are NOW on sale! Purchase yours today! \n\n \n\nWe are currently seeking event sponsors to help make this milestone celebration possible and advance the important work of Harmony House. Ready to sponsor? Learn more or reach out. Get connected with our Development Director\, Carl Peterson at 417-837-7700 or carlp@myharmonyhouse.org. Thank you! \nSponsorship Opportunities \n\n\nFriday\, April 17th\, 2026\nDoors open at 6:00 pm.\nEvent 6:30 pm – 9:00 pm\nOasis Hotel and Convention Center\n2546 N Glenstone Ave\, Springfield\, MO 65803\n\n\n\nPlease Note: At this event\, photos and videos may be recorded. By attending this event\, you may be included in these photos and videos. Your attendance at this event grants your permission to be in these photos or videos\, which may be used for educational or promotional purposes for Harmony House. Thank you!
URL:https://www.myharmonyhouse.org/event/purple-party-2026/
LOCATION:Oasis Hotel & Convention Center\, 2546 N Glenstone Ave\, Springfield\, Missouri\, 65803
CATEGORIES:Community Engagement,Fundraising
ATTACH;FMTTYPE=image/png:https://www.myharmonyhouse.org/wp-content/uploads/2025/05/Purple-Party-2026-Tickets-On-Sale.png
END:VEVENT
BEGIN:VEVENT
DTSTART;TZID=America/Chicago:20260424T120000
DTEND;TZID=America/Chicago:20260424T130000
DTSTAMP:20260422T171349
CREATED:20260421T165728Z
LAST-MODIFIED:20260422T142702Z
UID:10000192-1777032000-1777035600@www.myharmonyhouse.org
SUMMARY:Prevention Education: Learning Lunch
DESCRIPTION:About This Event\nHarmony House Presents a New Monthly Series\nLearning Lunch  \nFirst Event: Friday\, April 24th | 12pm-1pm\nSchweitzer Brentwood Library – 2214 South Brentwood Blvd\, Springfield\, MO 65804\n\nWe’re starting a new free monthly prevention series! Each month\, bring your own lunch\, and join us for an hour of important education and conversation. Starting on Friday\, April 24th for our first Learning Lunch\, meet at the Schweitzer Brentwood Library for a conversation centered around sexual harassment\, from 12pm-1pm.  (Note – lunch is not provided\, please bring your own). Register to let us know you’re coming!\n\nHosted by Charity Jordan Rex\, the Prevention Program Manager for Harmony House\n\n Free registration now open!\n\nPlease RSVP to let us know you’re joining us! Limited availability!\nFREE\n\nQuestions or Comments?  Please contact us at 417-837-7700 \nGet Registered Today!
URL:https://www.myharmonyhouse.org/event/prevention-education-learning-lunch/
LOCATION:Schweitzer Brentwood Library 2214 S Brentwood Blvd\,  Springfield\, MO 65804\, 2214 S Brentwood Blvd\, Springfield\, 65804\, United States
CATEGORIES:Prevention Education
ATTACH;FMTTYPE=image/png:https://www.myharmonyhouse.org/wp-content/uploads/2026/04/Learning-Lunch-Web-Graphic-1600-x-900-px.png
END:VEVENT
BEGIN:VEVENT
DTSTART;TZID=America/Chicago:20260427T130000
DTEND;TZID=America/Chicago:20260427T150000
DTSTAMP:20260422T171349
CREATED:20250502T205739Z
LAST-MODIFIED:20260408T184549Z
UID:10000109-1777294800-1777302000@www.myharmonyhouse.org
SUMMARY:Harmony House Presents: In Her Shoes
DESCRIPTION:About This Event\n\nHarmony House Presents\nIn Her Shoes \nMonday\, April 27th | 1pm-3pm \nGreene County Family Justice Center – 1418 E Pythian St. Springfield\, MO 65802 \nIn Her Shoes is an experiential\, interactive simulation about domestic violence.  Based on the stories of real survivors\, participants walk in the shoes of various characters.  You’ll move\, act\, think\, and make choices as a person experiencing an abusive relationship.  This interactive and introspective simulation will leave you with an intimate understanding of the difficult choices that face survivors as they leave abuse. \nHosted by Charity Jordan Rex\, the Prevention Program Manager for Harmony House \nFree registration now open!\nPlease RSVP to let us know you’re joining us! Limited availability! \nFREE \nQuestions or Comments?  Please contact us at 417-837-7700 \nGet Registered Today!
URL:https://www.myharmonyhouse.org/event/in-her-shoes/
LOCATION:Greene County Family Justice Center\, 1418 E Pythian St\, Springfield\, MO\, 65802\, United States
CATEGORIES:Community Engagement,In Her Shoes,Prevention Education
ATTACH;FMTTYPE=image/png:https://www.myharmonyhouse.org/wp-content/uploads/2025/05/In-Her-Shoes-Web-Graphic-June-25-Presentation.png
END:VEVENT
BEGIN:VEVENT
DTSTART;TZID=America/Chicago:20260504T093000
DTEND;TZID=America/Chicago:20260504T103000
DTSTAMP:20260422T171349
CREATED:20250529T190836Z
LAST-MODIFIED:20260406T202834Z
UID:10000113-1777887000-1777890600@www.myharmonyhouse.org
SUMMARY:Volunteer Orientation
DESCRIPTION:📣 Join us for our next Volunteer Orientation! Mark your calendars and get registered directly to join us. Volunteer Orientation is held on the first Monday of each month (unless it falls on a holiday). \nMay 4th\, 9:30am-10:30am \nThis is the perfect opportunity to learn more about the many ways you can make a difference at Harmony House. Whether you’re interested in helping at the front desk\, organizing donations\, or supporting survivors in other meaningful ways\, we’d love to have you on our team. We’d love to welcome new volunteers to learn more about getting involved! \n✨ Sign up today and take the first step toward making an impact and get registered. We’ll see you soon!
URL:https://www.myharmonyhouse.org/event/volunteer-orientation/
CATEGORIES:Volunteering
ATTACH;FMTTYPE=image/png:https://www.myharmonyhouse.org/wp-content/uploads/2025/05/Volunteer-Orientation-2025-web-1920-x-1080-px-generic.png
END:VEVENT
END:VCALENDAR