BEGIN:VCALENDAR
VERSION:2.0
PRODID:-//Harmony House - ECPv6.15.20//NONSGML v1.0//EN
CALSCALE:GREGORIAN
METHOD:PUBLISH
X-ORIGINAL-URL:https://www.myharmonyhouse.org
X-WR-CALDESC:Events for Harmony House
REFRESH-INTERVAL;VALUE=DURATION:PT1H
X-Robots-Tag:noindex
X-PUBLISHED-TTL:PT1H
BEGIN:VTIMEZONE
TZID:America/Chicago
BEGIN:DAYLIGHT
TZOFFSETFROM:-0600
TZOFFSETTO:-0500
TZNAME:CDT
DTSTART:20250309T080000
END:DAYLIGHT
BEGIN:STANDARD
TZOFFSETFROM:-0500
TZOFFSETTO:-0600
TZNAME:CST
DTSTART:20251102T070000
END:STANDARD
BEGIN:DAYLIGHT
TZOFFSETFROM:-0600
TZOFFSETTO:-0500
TZNAME:CDT
DTSTART:20260308T080000
END:DAYLIGHT
BEGIN:STANDARD
TZOFFSETFROM:-0500
TZOFFSETTO:-0600
TZNAME:CST
DTSTART:20261101T070000
END:STANDARD
BEGIN:DAYLIGHT
TZOFFSETFROM:-0600
TZOFFSETTO:-0500
TZNAME:CDT
DTSTART:20270314T080000
END:DAYLIGHT
BEGIN:STANDARD
TZOFFSETFROM:-0500
TZOFFSETTO:-0600
TZNAME:CST
DTSTART:20271107T070000
END:STANDARD
END:VTIMEZONE
BEGIN:VEVENT
DTSTART;TZID=America/Chicago:20260509T110000
DTEND;TZID=America/Chicago:20260509T130000
DTSTAMP:20260424T160333
CREATED:20260424T205523Z
LAST-MODIFIED:20260424T205523Z
UID:10000190-1778324400-1778331600@www.myharmonyhouse.org
SUMMARY:Kendra Scott: Shine Bright\, Do Good
DESCRIPTION:Join us at Kendra Scott at the Battlefield Mall on Saturday\, May 9th from 11am-1pm\, where 20% of in store sales will benefit Harmony House. We’re so grateful for local partnerships!
URL:https://www.myharmonyhouse.org/event/kendra-scott/
LOCATION:Battlefield Mall (Kendra Scott)\, 2825 S Glenstone Ave\, Springfield\, MO\, 65804\, United States
CATEGORIES:Community Engagement,Fundraising
ATTACH;FMTTYPE=image/jpeg:https://www.myharmonyhouse.org/wp-content/uploads/2026/03/ksgive.jpg
END:VEVENT
BEGIN:VEVENT
DTSTART;TZID=America/Chicago:20260820T180000
DTEND;TZID=America/Chicago:20260820T210000
DTSTAMP:20260424T160333
CREATED:20260424T170532Z
LAST-MODIFIED:20260424T170745Z
UID:10000193-1787248800-1787259600@www.myharmonyhouse.org
SUMMARY:Golden Hour Gala
DESCRIPTION:Hosted by the Harmony House Young Professionals Advisory Board \n3rd Annual Golden Hour Gala\nSave the Date: Thursday\, August 20th\, 2026\n6pm-9pm | Hotel Vandivort\nTickets will open in May! \nYou’re invited to join us on Thursday\, August 20th from 6-9pm for the 3rd annual Golden Hour Gala\, benefitting Harmony House. This elegant event will be held at Hotel Vandivort. Dress in your best cocktail attire and enjoy a sunset dinner & drinks\, time to network & socialize\, music\, and a variety of surprises—all in support survivors of domestic violence. \nReady to become a sponsor of the evening? Partner with us. Reach out to Development Coordinator Sara Opolka\, sarao@myharmonyhouse.org. \nDon’t miss this wonderful evening\, proudly organized and planned by the Harmony House Young Professionals Advisory Board. We look forward to seeing you there!
URL:https://www.myharmonyhouse.org/event/goldenhourgala26/
LOCATION:Hotel Vandivort\, 305 E Walnut\, Springfield\, MO\, 65806\, United States
CATEGORIES:Fundraising,Golden Hour Gala,Young Professionals Advisory Board
ATTACH;FMTTYPE=image/png:https://www.myharmonyhouse.org/wp-content/uploads/2025/08/GHG-2025-Slide-Deck-1600-x-900-px-Presentation-1.png
END:VEVENT
END:VCALENDAR