BEGIN:VCALENDAR
VERSION:2.0
PRODID:-//Harmony House - ECPv6.15.20//NONSGML v1.0//EN
CALSCALE:GREGORIAN
METHOD:PUBLISH
X-WR-CALNAME:Harmony House
X-ORIGINAL-URL:https://www.myharmonyhouse.org
X-WR-CALDESC:Events for Harmony House
REFRESH-INTERVAL;VALUE=DURATION:PT1H
X-Robots-Tag:noindex
X-PUBLISHED-TTL:PT1H
BEGIN:VTIMEZONE
TZID:America/Chicago
BEGIN:DAYLIGHT
TZOFFSETFROM:-0600
TZOFFSETTO:-0500
TZNAME:CDT
DTSTART:20200308T080000
END:DAYLIGHT
BEGIN:STANDARD
TZOFFSETFROM:-0500
TZOFFSETTO:-0600
TZNAME:CST
DTSTART:20201101T070000
END:STANDARD
BEGIN:DAYLIGHT
TZOFFSETFROM:-0600
TZOFFSETTO:-0500
TZNAME:CDT
DTSTART:20210314T080000
END:DAYLIGHT
BEGIN:STANDARD
TZOFFSETFROM:-0500
TZOFFSETTO:-0600
TZNAME:CST
DTSTART:20211107T070000
END:STANDARD
BEGIN:DAYLIGHT
TZOFFSETFROM:-0600
TZOFFSETTO:-0500
TZNAME:CDT
DTSTART:20220313T080000
END:DAYLIGHT
BEGIN:STANDARD
TZOFFSETFROM:-0500
TZOFFSETTO:-0600
TZNAME:CST
DTSTART:20221106T070000
END:STANDARD
END:VTIMEZONE
BEGIN:VEVENT
DTSTART;TZID=America/Chicago:20210929T073000
DTEND;TZID=America/Chicago:20210929T083000
DTSTAMP:20260422T173101
CREATED:20210225T065452Z
LAST-MODIFIED:20210909T135211Z
UID:10000071-1632900600-1632904200@www.myharmonyhouse.org
SUMMARY:iCare Kickoff Breakfast (Oasis)
DESCRIPTION:We have 7 billion reasons for you to join us for the 7th Annual iCare Kickoff Breakfast! Come learn how you and your business can support survivors of intimate partner and domestic violence and make a difference for future generations.  You will also get a sneak peek of Standing Together: Portraits and Stories of Domestic Abuse\, the newest exhibit from Randy Bacon and 7 Billion Ones which opens on October 1\, 2021. \nIf you are signed up for iCare already\, this is a great time to pick up your purple box.  If you haven’t signed up yet\, you will be able to register at the breakfast.  \nTo RSVP for the Kickoff Breakfast\, visit: https://harmonyhouse.salsalabs.org/icare2021kickoff \n 
URL:https://www.myharmonyhouse.org/event/icare-kickoff-breakfast-oasis/
LOCATION:Oasis Hotel & Convention Center\, 2546 N Glenstone Ave\, Springfield\, Missouri\, 65803
END:VEVENT
BEGIN:VEVENT
DTSTART;TZID=America/Chicago:20210802T113000
DTEND;TZID=America/Chicago:20210802T150000
DTSTAMP:20260422T173101
CREATED:20210702T132642Z
LAST-MODIFIED:20210702T135031Z
UID:10000073-1627903800-1627916400@www.myharmonyhouse.org
SUMMARY:BigShots ShootOut
DESCRIPTION:Join us for an exciting afternoon event at Springfield’s newest golf experience and support a great cause. \nHarmony House is Springfield’s only domestic violence shelter\, providing safety and support for victims of abuse and their families. In 2020\, Harmony House helped more than 700 men\, women\, and children and answered more than 2\,700 calls to the emergency hotline. Your participation will help our advocates\, case managers\, and volunteers provide life-changing services to those who reach out to us in their time of need. \nHarmony House is proud to host the first-ever “Harmony House Shootout” at Big Shots Golf Monday August 2nd\nTee it up as a single player or a team of six\, and try your hand at this exciting new golf technology. \nRegister Now!
URL:https://www.myharmonyhouse.org/event/big-shots-golf/
LOCATION:MO
ATTACH;FMTTYPE=image/jpeg:https://www.myharmonyhouse.org/wp-content/uploads/2021/07/bigshots.jpg
END:VEVENT
BEGIN:VEVENT
DTSTART;TZID=America/Chicago:20210403T080000
DTEND;TZID=America/Chicago:20210403T170000
DTSTAMP:20260422T173101
CREATED:20210330T174940Z
LAST-MODIFIED:20210331T155026Z
UID:10000072-1617436800-1617469200@www.myharmonyhouse.org
SUMMARY:Purple Party
DESCRIPTION:Join us on Saturday\, April 3 at 6:30 pm and party ’80s style at home!  We are planning a live-streamed virtual event with something for everyone! We’ll have all the things you love about The Purple Party: an online auction\, 80’s fun\, our Harmony Heroes\, ways to give and impact Harmony House’s mission\, and of course\, entertainment by Members Only! \nBack by popular demand\, you’ll be able to enjoy The Purple Party right from your own home! \nTickets are on sale NOW\, so you can grab a virtual ticket and watch from the comfort of your couch OR gather 7 of your friends and throw a Purple House Party to celebrate in style! Every Purple House Party Pack comes with appetizers for 8\, party favors\, and MORE to help make your party even more fun!
URL:https://www.myharmonyhouse.org/event/purple-party-copy/
LOCATION:MO
END:VEVENT
BEGIN:VEVENT
DTSTART;TZID=America/Chicago:20210324T070000
DTEND;TZID=America/Chicago:20210324T190000
DTSTAMP:20260422T173101
CREATED:20210225T065226Z
LAST-MODIFIED:20210312T191521Z
UID:10000070-1616569200-1616612400@www.myharmonyhouse.org
SUMMARY:Give Ozarks Day
DESCRIPTION:
URL:https://causemomentum.org/projects/save-a-child-change-a-community
LOCATION:MO
END:VEVENT
END:VCALENDAR