BEGIN:VCALENDAR
VERSION:2.0
PRODID:-//Harmony House - ECPv6.15.20//NONSGML v1.0//EN
CALSCALE:GREGORIAN
METHOD:PUBLISH
X-ORIGINAL-URL:https://www.myharmonyhouse.org
X-WR-CALDESC:Events for Harmony House
REFRESH-INTERVAL;VALUE=DURATION:PT1H
X-Robots-Tag:noindex
X-PUBLISHED-TTL:PT1H
BEGIN:VTIMEZONE
TZID:America/Chicago
BEGIN:DAYLIGHT
TZOFFSETFROM:-0600
TZOFFSETTO:-0500
TZNAME:CDT
DTSTART:20230312T080000
END:DAYLIGHT
BEGIN:STANDARD
TZOFFSETFROM:-0500
TZOFFSETTO:-0600
TZNAME:CST
DTSTART:20231105T070000
END:STANDARD
BEGIN:DAYLIGHT
TZOFFSETFROM:-0600
TZOFFSETTO:-0500
TZNAME:CDT
DTSTART:20240310T080000
END:DAYLIGHT
BEGIN:STANDARD
TZOFFSETFROM:-0500
TZOFFSETTO:-0600
TZNAME:CST
DTSTART:20241103T070000
END:STANDARD
BEGIN:DAYLIGHT
TZOFFSETFROM:-0600
TZOFFSETTO:-0500
TZNAME:CDT
DTSTART:20250309T080000
END:DAYLIGHT
BEGIN:STANDARD
TZOFFSETFROM:-0500
TZOFFSETTO:-0600
TZNAME:CST
DTSTART:20251102T070000
END:STANDARD
END:VTIMEZONE
BEGIN:VEVENT
DTSTART;TZID=America/Chicago:20241005T150000
DTEND;TZID=America/Chicago:20241005T200000
DTSTAMP:20260422T202251
CREATED:20241001T143759Z
LAST-MODIFIED:20241001T143759Z
UID:10000100-1728140400-1728158400@www.myharmonyhouse.org
SUMMARY:1st Annual Poker for Purple event benefitting Harmony House
DESCRIPTION:This event is proudly hosted and organized by the Ozarks Event Center. \nThe details– $100 Suggested donation (1 re-entry allowed through level 12)– 100k Starting stack– $50 Add on for an additional 100k in chips (can be purchased any time)– $10 dealer appreciation gets you an extra 10k chip– 20 minute levels– 15 minute breaks every 3 levels– absolutely no outside food or beverage of any kind
URL:https://www.myharmonyhouse.org/event/1st-annual-poker-for-purple-event-benefitting-harmony-house/
LOCATION:Ozarks Event Center\, 842 Guin Road\, Nixa\, 65714
ATTACH;FMTTYPE=image/png:https://www.myharmonyhouse.org/wp-content/uploads/2024/10/image-41.png
END:VEVENT
BEGIN:VEVENT
DTSTART;TZID=America/Chicago:20241014T133000
DTEND;TZID=America/Chicago:20241014T163000
DTSTAMP:20260422T202251
CREATED:20241001T150431Z
LAST-MODIFIED:20250609T144905Z
UID:10000096-1728912600-1728923400@www.myharmonyhouse.org
SUMMARY:Harmony House Presents: In Her Shoes
DESCRIPTION:About This Event\n\nHarmony House Presents: In Her Shoes \nMonday\, October 14th\, 2024 \nDouble Tree Hotel & Convention Center – 2341 N. Glenstone Ave. Springfield\, MO 65803 \nIn Her Shoes is an experiential\, interactive simulation about domestic violence.  Based on the stories of real survivors\, participants walk in the shoes of various characters.  You’ll move\, act\, think\, and make choices as a person experiencing an abusive relationship.  This interactive and introspective simulation will leave you with an intimate understanding of the difficult choices that face survivors as they leave abuse. \nHosted by Charity Jordan Rex\, the Prevention Program Manager for Harmony House \nLimited Seating! RSVP HERE to secure your spot!\n2 Sessions – Please Pick One \n1:00PM – 2:30PM – 40 Seats \n3:00PM-4:30PM – 40 Seats \nFREE \nQuestions or Comments?  Please contact us at 417-837-7700
URL:https://www.myharmonyhouse.org/event/harmony-house-presents-in-her-shoes/
LOCATION:Double Tree Hotel & Convention Center\, 2341 N. Glenstone Ave\, Springfield\, MO\, 65803\, United States
END:VEVENT
BEGIN:VEVENT
DTSTART;TZID=America/Chicago:20241026T090000
DTEND;TZID=America/Chicago:20241026T170000
DTSTAMP:20260422T202251
CREATED:20241001T150144Z
LAST-MODIFIED:20241001T150506Z
UID:10000098-1729933200-1729962000@www.myharmonyhouse.org
SUMMARY:Halloween Hustle
DESCRIPTION:The Halloween Hustle is a local race presented by City Utilities with 100% of proceeds benefiting a local charity—Harmony House. The race starts and ends at City Utilities’ main office\, 301 East Central Street. This relatively flat race route winds through historic mid-town Springfield. Expect no tricks\, but lots of treats at the Halloween Hustle—with candy for your little ghosts and goblins on every corner. An event for kids of all ages—runners are encouraged get in the holiday spirit and wear their Halloween costumes. As one of the longest running 5k’s in the Springfield community\, this has become a Halloween tradition for many families year after year. \nThe Halloween Hustle benefits Harmony House—Springfield’s only domestic violence shelter. Every penny raised from the Halloween Hustle will support Harmony House and the work they do every day providing shelter\, advocacy\, and education to survivors of domestic abuse. When you take part in the Halloween Hustle\, you are helping Harmony House provide a safe\, warm place for local survivors of domestic abuse and their children. Your involvement gives a survivor a chance to escape abuse and access to resources such as food\, clothing\, court advocacy\, life skills classes and more. Your donation stays local and helps Harmony House continue to provide these much-needed services in our community. Help us make a difference!
URL:https://www.myharmonyhouse.org/event/halloween-hustle/
LOCATION:City Utilities\, 301 E. Central\, Springfield\, MO\, 65802\, United States
ATTACH;FMTTYPE=image/png:https://www.myharmonyhouse.org/wp-content/uploads/2024/10/orig_beetlefootmedal-24_.png
END:VEVENT
BEGIN:VEVENT
DTSTART;TZID=America/Chicago:20241028T080000
DTEND;TZID=America/Chicago:20241028T170000
DTSTAMP:20260422T202251
CREATED:20241001T142952Z
LAST-MODIFIED:20241001T142952Z
UID:10000104-1730102400-1730134800@www.myharmonyhouse.org
SUMMARY:2024 Stop the Violence Conference
DESCRIPTION:Please join us for the 2024 Stop the Violence Conference! This free event brings national speakers to our community to discuss domestic and sexual violence\, and makes a call to action to stop interpersonal violence in SW Missouri.\n\nThis event is hosted by many local victim services organizations in partnership with Abilities First\, the Missouri Department of Health and Senior Services and MSU Department of Criminology/Criminal Justice\, and can be attended in-person or virtually.\n\nTo register\, please visit https://efactory.missouristate.edu/events/stop-the-violence/Once all in-person spots are full\, only virtual registration will be available.
URL:https://www.myharmonyhouse.org/event/2024-stop-the-violence-conference/
LOCATION:efactory\, 405 N Jefferson Ave\, Springfield\, MO\, 65806\, United States
ATTACH;FMTTYPE=image/jpeg:https://www.myharmonyhouse.org/wp-content/uploads/2024/10/452552271_900290368798563_8572456812080586537_n.jpg
END:VEVENT
END:VCALENDAR